BEGIN:VCALENDAR
VERSION:2.0
PRODID:-//YWCA Camp - ECPv6.15.20//NONSGML v1.0//EN
CALSCALE:GREGORIAN
METHOD:PUBLISH
X-WR-CALNAME:YWCA Camp
X-ORIGINAL-URL:https://ywcacampegypt.com
X-WR-CALDESC:Events for YWCA Camp
REFRESH-INTERVAL;VALUE=DURATION:PT1H
X-Robots-Tag:noindex
X-PUBLISHED-TTL:PT1H
BEGIN:VTIMEZONE
TZID:Europe/Helsinki
BEGIN:DAYLIGHT
TZOFFSETFROM:+0200
TZOFFSETTO:+0300
TZNAME:EEST
DTSTART:20180325T010000
END:DAYLIGHT
BEGIN:STANDARD
TZOFFSETFROM:+0300
TZOFFSETTO:+0200
TZNAME:EET
DTSTART:20181028T010000
END:STANDARD
BEGIN:DAYLIGHT
TZOFFSETFROM:+0200
TZOFFSETTO:+0300
TZNAME:EEST
DTSTART:20190331T010000
END:DAYLIGHT
BEGIN:STANDARD
TZOFFSETFROM:+0300
TZOFFSETTO:+0200
TZNAME:EET
DTSTART:20191027T010000
END:STANDARD
BEGIN:DAYLIGHT
TZOFFSETFROM:+0200
TZOFFSETTO:+0300
TZNAME:EEST
DTSTART:20200329T010000
END:DAYLIGHT
BEGIN:STANDARD
TZOFFSETFROM:+0300
TZOFFSETTO:+0200
TZNAME:EET
DTSTART:20201025T010000
END:STANDARD
END:VTIMEZONE
BEGIN:VEVENT
DTSTART;TZID=Europe/Helsinki:20190717T070000
DTEND;TZID=Europe/Helsinki:20190724T200000
DTSTAMP:20260426T043807
CREATED:20190321T143336Z
LAST-MODIFIED:20190321T143336Z
UID:462-1563346800-1563998400@ywcacampegypt.com
SUMMARY:Kids 2 Camp
DESCRIPTION:
URL:https://ywcacampegypt.com/camp/kids-2-camp-2019/
LOCATION:Ras Sedr
CATEGORIES:Summer Camp
END:VEVENT
BEGIN:VEVENT
DTSTART;TZID=Europe/Helsinki:20190724T070000
DTEND;TZID=Europe/Helsinki:20190731T200000
DTSTAMP:20260426T043807
CREATED:20190322T083404Z
LAST-MODIFIED:20190322T083404Z
UID:466-1563951600-1564603200@ywcacampegypt.com
SUMMARY:Boys Camp
DESCRIPTION:
URL:https://ywcacampegypt.com/camp/boys-camp-2019/
LOCATION:Ras Sedr
CATEGORIES:Summer Camp
END:VEVENT
END:VCALENDAR