BEGIN:VCALENDAR
VERSION:2.0
PRODID:-//YWCA Camp - ECPv6.15.20//NONSGML v1.0//EN
CALSCALE:GREGORIAN
METHOD:PUBLISH
X-WR-CALNAME:YWCA Camp
X-ORIGINAL-URL:https://ywcacampegypt.com
X-WR-CALDESC:Events for YWCA Camp
REFRESH-INTERVAL;VALUE=DURATION:PT1H
X-Robots-Tag:noindex
X-PUBLISHED-TTL:PT1H
BEGIN:VTIMEZONE
TZID:Europe/Helsinki
BEGIN:DAYLIGHT
TZOFFSETFROM:+0200
TZOFFSETTO:+0300
TZNAME:EEST
DTSTART:20170326T010000
END:DAYLIGHT
BEGIN:STANDARD
TZOFFSETFROM:+0300
TZOFFSETTO:+0200
TZNAME:EET
DTSTART:20171029T010000
END:STANDARD
BEGIN:DAYLIGHT
TZOFFSETFROM:+0200
TZOFFSETTO:+0300
TZNAME:EEST
DTSTART:20180325T010000
END:DAYLIGHT
BEGIN:STANDARD
TZOFFSETFROM:+0300
TZOFFSETTO:+0200
TZNAME:EET
DTSTART:20181028T010000
END:STANDARD
BEGIN:DAYLIGHT
TZOFFSETFROM:+0200
TZOFFSETTO:+0300
TZNAME:EEST
DTSTART:20190331T010000
END:DAYLIGHT
BEGIN:STANDARD
TZOFFSETFROM:+0300
TZOFFSETTO:+0200
TZNAME:EET
DTSTART:20191027T010000
END:STANDARD
BEGIN:DAYLIGHT
TZOFFSETFROM:+0200
TZOFFSETTO:+0300
TZNAME:EEST
DTSTART:20200329T010000
END:DAYLIGHT
BEGIN:STANDARD
TZOFFSETFROM:+0300
TZOFFSETTO:+0200
TZNAME:EET
DTSTART:20201025T010000
END:STANDARD
BEGIN:DAYLIGHT
TZOFFSETFROM:+0200
TZOFFSETTO:+0300
TZNAME:EEST
DTSTART:20210328T010000
END:DAYLIGHT
BEGIN:STANDARD
TZOFFSETFROM:+0300
TZOFFSETTO:+0200
TZNAME:EET
DTSTART:20211031T010000
END:STANDARD
BEGIN:DAYLIGHT
TZOFFSETFROM:+0200
TZOFFSETTO:+0300
TZNAME:EEST
DTSTART:20220327T010000
END:DAYLIGHT
BEGIN:STANDARD
TZOFFSETFROM:+0300
TZOFFSETTO:+0200
TZNAME:EET
DTSTART:20221030T010000
END:STANDARD
BEGIN:DAYLIGHT
TZOFFSETFROM:+0200
TZOFFSETTO:+0300
TZNAME:EEST
DTSTART:20230326T010000
END:DAYLIGHT
BEGIN:STANDARD
TZOFFSETFROM:+0300
TZOFFSETTO:+0200
TZNAME:EET
DTSTART:20231029T010000
END:STANDARD
END:VTIMEZONE
BEGIN:VEVENT
DTSTART;TZID=Europe/Helsinki:20220719T070000
DTEND;TZID=Europe/Helsinki:20220726T200000
DTSTAMP:20260423T225115
CREATED:20220327T101230Z
LAST-MODIFIED:20220327T101645Z
UID:998-1658214000-1658865600@ywcacampegypt.com
SUMMARY:Kids 1 Camp
DESCRIPTION:
URL:https://ywcacampegypt.com/camp/kids-1-camp-2022/
LOCATION:Ras Sedr
CATEGORIES:Summer Camp
END:VEVENT
BEGIN:VEVENT
DTSTART;TZID=Europe/Helsinki:20220102T070000
DTEND;TZID=Europe/Helsinki:20220105T200000
DTSTAMP:20260423T225115
CREATED:20211122T100945Z
LAST-MODIFIED:20211122T102355Z
UID:942-1641106800-1641412800@ywcacampegypt.com
SUMMARY:Winter Boys Camp
DESCRIPTION:
URL:https://ywcacampegypt.com/camp/winter-boys-camp-2021/
LOCATION:Ras Sedr
CATEGORIES:Winter Camp
END:VEVENT
BEGIN:VEVENT
DTSTART;TZID=Europe/Helsinki:20211227T070000
DTEND;TZID=Europe/Helsinki:20211230T200000
DTSTAMP:20260423T225115
CREATED:20211122T102538Z
LAST-MODIFIED:20211122T102538Z
UID:944-1640588400-1640894400@ywcacampegypt.com
SUMMARY:Winter Girls Camp
DESCRIPTION:
URL:https://ywcacampegypt.com/camp/winter-girls-camp-2021/
LOCATION:Ras Sedr
CATEGORIES:Winter Camp
END:VEVENT
BEGIN:VEVENT
DTSTART;TZID=Europe/Helsinki:20211224T070000
DTEND;TZID=Europe/Helsinki:20211227T200000
DTSTAMP:20260423T225115
CREATED:20211122T100723Z
LAST-MODIFIED:20211122T100723Z
UID:940-1640329200-1640635200@ywcacampegypt.com
SUMMARY:Winter Kids Camp
DESCRIPTION:
URL:https://ywcacampegypt.com/camp/winter-kids-camp-2021/
LOCATION:Ras Sedr
CATEGORIES:Winter Camp
END:VEVENT
BEGIN:VEVENT
DTSTART;TZID=Europe/Helsinki:20200817T070000
DTEND;TZID=Europe/Helsinki:20200824T200000
DTSTAMP:20260423T225115
CREATED:20200302T080408Z
LAST-MODIFIED:20200302T080408Z
UID:672-1597647600-1598299200@ywcacampegypt.com
SUMMARY:Kids 3 Camp
DESCRIPTION:
URL:https://ywcacampegypt.com/camp/kids-3-camp-2020/
LOCATION:Ras Sedr
CATEGORIES:Summer Camp
END:VEVENT
BEGIN:VEVENT
DTSTART;TZID=Europe/Helsinki:20200809T070000
DTEND;TZID=Europe/Helsinki:20200816T200000
DTSTAMP:20260423T225115
CREATED:20200302T080823Z
LAST-MODIFIED:20200302T080823Z
UID:676-1596956400-1597608000@ywcacampegypt.com
SUMMARY:Boys Camp
DESCRIPTION:
URL:https://ywcacampegypt.com/camp/boys-camp-2020/
LOCATION:Ras Sedr
CATEGORIES:Summer Camp
END:VEVENT
BEGIN:VEVENT
DTSTART;TZID=Europe/Helsinki:20200720T070000
DTEND;TZID=Europe/Helsinki:20200727T200000
DTSTAMP:20260423T225115
CREATED:20200302T080138Z
LAST-MODIFIED:20200302T080308Z
UID:670-1595228400-1595880000@ywcacampegypt.com
SUMMARY:Kids 2 Camp
DESCRIPTION:
URL:https://ywcacampegypt.com/camp/kids-2-camp-2020/
LOCATION:Ras Sedr
CATEGORIES:Summer Camp
END:VEVENT
BEGIN:VEVENT
DTSTART;TZID=Europe/Helsinki:20200715T070000
DTEND;TZID=Europe/Helsinki:20200719T200000
DTSTAMP:20260423T225115
CREATED:20200302T081632Z
LAST-MODIFIED:20200308T225202Z
UID:679-1594796400-1595188800@ywcacampegypt.com
SUMMARY:University Camp
DESCRIPTION:
URL:https://ywcacampegypt.com/camp/university-camp-2020/
LOCATION:Ras Sedr
CATEGORIES:Summer Camp
END:VEVENT
BEGIN:VEVENT
DTSTART;TZID=Europe/Helsinki:20200707T080000
DTEND;TZID=Europe/Helsinki:20200714T170000
DTSTAMP:20260423T225115
CREATED:20200302T080630Z
LAST-MODIFIED:20200302T080630Z
UID:674-1594108800-1594746000@ywcacampegypt.com
SUMMARY:Girls Camp
DESCRIPTION:
URL:https://ywcacampegypt.com/camp/girls-camp-2020/
LOCATION:Ras Sedr
CATEGORIES:Summer Camp
END:VEVENT
BEGIN:VEVENT
DTSTART;TZID=Europe/Helsinki:20200629T070000
DTEND;TZID=Europe/Helsinki:20200706T200000
DTSTAMP:20260423T225115
CREATED:20200302T075813Z
LAST-MODIFIED:20200302T075813Z
UID:668-1593414000-1594065600@ywcacampegypt.com
SUMMARY:Kids 1 Camp
DESCRIPTION:
URL:https://ywcacampegypt.com/camp/kids-1-camp-2020/
CATEGORIES:Summer Camp
END:VEVENT
BEGIN:VEVENT
DTSTART;TZID=Europe/Helsinki:20190731T070000
DTEND;TZID=Europe/Helsinki:20190804T200000
DTSTAMP:20260423T225115
CREATED:20190322T083854Z
LAST-MODIFIED:20190322T083854Z
UID:468-1564556400-1564948800@ywcacampegypt.com
SUMMARY:University Camp
DESCRIPTION:
URL:https://ywcacampegypt.com/camp/university-camp-2019/
CATEGORIES:Summer Camp
END:VEVENT
BEGIN:VEVENT
DTSTART;TZID=Europe/Helsinki:20190724T070000
DTEND;TZID=Europe/Helsinki:20190731T200000
DTSTAMP:20260423T225115
CREATED:20190322T083404Z
LAST-MODIFIED:20190322T083404Z
UID:466-1563951600-1564603200@ywcacampegypt.com
SUMMARY:Boys Camp
DESCRIPTION:
URL:https://ywcacampegypt.com/camp/boys-camp-2019/
LOCATION:Ras Sedr
CATEGORIES:Summer Camp
END:VEVENT
BEGIN:VEVENT
DTSTART;TZID=Europe/Helsinki:20190717T070000
DTEND;TZID=Europe/Helsinki:20190724T200000
DTSTAMP:20260423T225115
CREATED:20190321T143336Z
LAST-MODIFIED:20190321T143336Z
UID:462-1563346800-1563998400@ywcacampegypt.com
SUMMARY:Kids 2 Camp
DESCRIPTION:
URL:https://ywcacampegypt.com/camp/kids-2-camp-2019/
LOCATION:Ras Sedr
CATEGORIES:Summer Camp
END:VEVENT
BEGIN:VEVENT
DTSTART;TZID=Europe/Helsinki:20190710T070000
DTEND;TZID=Europe/Helsinki:20190717T200000
DTSTAMP:20260423T225115
CREATED:20190322T083116Z
LAST-MODIFIED:20190322T083116Z
UID:464-1562742000-1563393600@ywcacampegypt.com
SUMMARY:Girls Camp
DESCRIPTION:
URL:https://ywcacampegypt.com/camp/girls-camp-2019/
LOCATION:Ras Sedr
CATEGORIES:Summer Camp
END:VEVENT
BEGIN:VEVENT
DTSTART;TZID=Europe/Helsinki:20190703T070000
DTEND;TZID=Europe/Helsinki:20190710T200000
DTSTAMP:20260423T225115
CREATED:20190321T141911Z
LAST-MODIFIED:20190321T143617Z
UID:459-1562137200-1562788800@ywcacampegypt.com
SUMMARY:Kids 1 Camp
DESCRIPTION:
URL:https://ywcacampegypt.com/camp/kids-1-camp-2019/
LOCATION:Ras Sedr
CATEGORIES:Summer Camp
END:VEVENT
BEGIN:VEVENT
DTSTART;TZID=Europe/Helsinki:20180812T070000
DTEND;TZID=Europe/Helsinki:20180819T200000
DTSTAMP:20260423T225115
CREATED:20180411T092635Z
LAST-MODIFIED:20180411T120456Z
UID:210-1534057200-1534708800@ywcacampegypt.com
SUMMARY:Girls Camp
DESCRIPTION:
URL:https://ywcacampegypt.com/camp/girls-camp-2018/
CATEGORIES:Summer Camp
END:VEVENT
BEGIN:VEVENT
DTSTART;TZID=Europe/Helsinki:20180808T070000
DTEND;TZID=Europe/Helsinki:20180812T200000
DTSTAMP:20260423T225115
CREATED:20180411T092423Z
LAST-MODIFIED:20180411T120220Z
UID:208-1533711600-1534104000@ywcacampegypt.com
SUMMARY:University Camp
DESCRIPTION:
URL:https://ywcacampegypt.com/camp/university-camp-2018/
LOCATION:Ras Sedr
CATEGORIES:Summer Camp
END:VEVENT
BEGIN:VEVENT
DTSTART;TZID=Europe/Helsinki:20180801T070000
DTEND;TZID=Europe/Helsinki:20180808T200000
DTSTAMP:20260423T225115
CREATED:20180411T091952Z
LAST-MODIFIED:20180411T120555Z
UID:205-1533106800-1533758400@ywcacampegypt.com
SUMMARY:Boys Camp
DESCRIPTION:
URL:https://ywcacampegypt.com/camp/boys-camp-2018/
LOCATION:Ras Sedr
CATEGORIES:Summer Camp
END:VEVENT
BEGIN:VEVENT
DTSTART;TZID=Europe/Helsinki:20180725T070000
DTEND;TZID=Europe/Helsinki:20180801T200000
DTSTAMP:20260423T225115
CREATED:20180411T091844Z
LAST-MODIFIED:20180411T120641Z
UID:203-1532502000-1533153600@ywcacampegypt.com
SUMMARY:Kids 2 Camp
DESCRIPTION:
URL:https://ywcacampegypt.com/camp/kids-2-camp-2018/
LOCATION:Ras Sedr
CATEGORIES:Summer Camp
END:VEVENT
BEGIN:VEVENT
DTSTART;TZID=Europe/Helsinki:20180718T070000
DTEND;TZID=Europe/Helsinki:20180725T200000
DTSTAMP:20260423T225115
CREATED:20180410T211655Z
LAST-MODIFIED:20180411T120749Z
UID:199-1531897200-1532548800@ywcacampegypt.com
SUMMARY:Kids 1 Camp
DESCRIPTION:
URL:https://ywcacampegypt.com/camp/kids-1-camp-2018/
LOCATION:Ras Sedr
CATEGORIES:Summer Camp
END:VEVENT
END:VCALENDAR