BEGIN:VCALENDAR
VERSION:2.0
PRODID:-//YWCA Camp - ECPv6.15.20//NONSGML v1.0//EN
CALSCALE:GREGORIAN
METHOD:PUBLISH
X-ORIGINAL-URL:https://ywcacampegypt.com
X-WR-CALDESC:Events for YWCA Camp
REFRESH-INTERVAL;VALUE=DURATION:PT1H
X-Robots-Tag:noindex
X-PUBLISHED-TTL:PT1H
BEGIN:VTIMEZONE
TZID:Europe/Helsinki
BEGIN:DAYLIGHT
TZOFFSETFROM:+0200
TZOFFSETTO:+0300
TZNAME:EEST
DTSTART:20210328T010000
END:DAYLIGHT
BEGIN:STANDARD
TZOFFSETFROM:+0300
TZOFFSETTO:+0200
TZNAME:EET
DTSTART:20211031T010000
END:STANDARD
BEGIN:DAYLIGHT
TZOFFSETFROM:+0200
TZOFFSETTO:+0300
TZNAME:EEST
DTSTART:20220327T010000
END:DAYLIGHT
BEGIN:STANDARD
TZOFFSETFROM:+0300
TZOFFSETTO:+0200
TZNAME:EET
DTSTART:20221030T010000
END:STANDARD
BEGIN:DAYLIGHT
TZOFFSETFROM:+0200
TZOFFSETTO:+0300
TZNAME:EEST
DTSTART:20230326T010000
END:DAYLIGHT
BEGIN:STANDARD
TZOFFSETFROM:+0300
TZOFFSETTO:+0200
TZNAME:EET
DTSTART:20231029T010000
END:STANDARD
BEGIN:DAYLIGHT
TZOFFSETFROM:+0200
TZOFFSETTO:+0300
TZNAME:EEST
DTSTART:20240331T010000
END:DAYLIGHT
BEGIN:STANDARD
TZOFFSETFROM:+0300
TZOFFSETTO:+0200
TZNAME:EET
DTSTART:20241027T010000
END:STANDARD
BEGIN:DAYLIGHT
TZOFFSETFROM:+0200
TZOFFSETTO:+0300
TZNAME:EEST
DTSTART:20250330T010000
END:DAYLIGHT
BEGIN:STANDARD
TZOFFSETFROM:+0300
TZOFFSETTO:+0200
TZNAME:EET
DTSTART:20251026T010000
END:STANDARD
END:VTIMEZONE
BEGIN:VEVENT
DTSTART;TZID=Europe/Helsinki:20220719T070000
DTEND;TZID=Europe/Helsinki:20220726T200000
DTSTAMP:20260423T223812
CREATED:20220327T101230Z
LAST-MODIFIED:20220327T101645Z
UID:998-1658214000-1658865600@ywcacampegypt.com
SUMMARY:Kids 1 Camp
DESCRIPTION:
URL:https://ywcacampegypt.com/camp/kids-1-camp-2022/
LOCATION:Ras Sedr
CATEGORIES:Summer Camp
END:VEVENT
BEGIN:VEVENT
DTSTART;TZID=Europe/Helsinki:20220726T070000
DTEND;TZID=Europe/Helsinki:20220802T200000
DTSTAMP:20260423T223812
CREATED:20220327T101411Z
LAST-MODIFIED:20220327T101411Z
UID:1000-1658818800-1659470400@ywcacampegypt.com
SUMMARY:Girls Camp
DESCRIPTION:
URL:https://ywcacampegypt.com/camp/girls-camp/
LOCATION:Ras Sedr
END:VEVENT
BEGIN:VEVENT
DTSTART;TZID=Europe/Helsinki:20220802T070000
DTEND;TZID=Europe/Helsinki:20220809T200000
DTSTAMP:20260423T223812
CREATED:20220327T101615Z
LAST-MODIFIED:20220327T101615Z
UID:1002-1659423600-1660075200@ywcacampegypt.com
SUMMARY:Kids 2 Camp
DESCRIPTION:
URL:https://ywcacampegypt.com/camp/kids-2-camp-2022/
LOCATION:Ras Sedr
CATEGORIES:Summer Camp
END:VEVENT
BEGIN:VEVENT
DTSTART;TZID=Europe/Helsinki:20220811T070000
DTEND;TZID=Europe/Helsinki:20220818T200000
DTSTAMP:20260423T223812
CREATED:20220327T101837Z
LAST-MODIFIED:20220327T101837Z
UID:1004-1660201200-1660852800@ywcacampegypt.com
SUMMARY:Boys Camp
DESCRIPTION:
URL:https://ywcacampegypt.com/camp/boys-camp-2022/
LOCATION:Ras Sedr
CATEGORIES:Summer Camp
END:VEVENT
BEGIN:VEVENT
DTSTART;TZID=Europe/Helsinki:20220818T070000
DTEND;TZID=Europe/Helsinki:20220823T200000
DTSTAMP:20260423T223812
CREATED:20220327T101955Z
LAST-MODIFIED:20220327T102205Z
UID:1006-1660806000-1661284800@ywcacampegypt.com
SUMMARY:University Camp
DESCRIPTION:
URL:https://ywcacampegypt.com/camp/university-camp-2022/
LOCATION:Ras Sedr
CATEGORIES:Summer Camp
END:VEVENT
BEGIN:VEVENT
DTSTART;TZID=Europe/Helsinki:20220823T080000
DTEND;TZID=Europe/Helsinki:20220830T170000
DTSTAMP:20260423T223812
CREATED:20220327T102132Z
LAST-MODIFIED:20220327T102132Z
UID:1008-1661241600-1661878800@ywcacampegypt.com
SUMMARY:Kids 3 Camp
DESCRIPTION:
URL:https://ywcacampegypt.com/camp/kids-3-camp-2022/
LOCATION:Ras Sedr
CATEGORIES:Summer Camp
END:VEVENT
BEGIN:VEVENT
DTSTART;TZID=Europe/Helsinki:20230706T070000
DTEND;TZID=Europe/Helsinki:20230712T200000
DTSTAMP:20260423T223812
CREATED:20230225T171305Z
LAST-MODIFIED:20230225T171647Z
UID:1110-1688626800-1689192000@ywcacampegypt.com
SUMMARY:Kids 1 Camp
DESCRIPTION:
URL:https://ywcacampegypt.com/camp/kids-1-camp-2023/
LOCATION:Ras Sedr
CATEGORIES:Summer Camp
END:VEVENT
BEGIN:VEVENT
DTSTART;TZID=Europe/Helsinki:20230712T070000
DTEND;TZID=Europe/Helsinki:20230718T200000
DTSTAMP:20260423T223812
CREATED:20230225T171619Z
LAST-MODIFIED:20230225T171619Z
UID:1113-1689145200-1689710400@ywcacampegypt.com
SUMMARY:Kids 2 Camp
DESCRIPTION:
URL:https://ywcacampegypt.com/camp/kids-2-camp-2023/
LOCATION:Ras Sedr
CATEGORIES:Summer Camp
END:VEVENT
BEGIN:VEVENT
DTSTART;TZID=Europe/Helsinki:20230720T070000
DTEND;TZID=Europe/Helsinki:20230726T200000
DTSTAMP:20260423T223812
CREATED:20230225T174537Z
LAST-MODIFIED:20230225T174537Z
UID:1115-1689836400-1690401600@ywcacampegypt.com
SUMMARY:Kids 3 Camp
DESCRIPTION:
URL:https://ywcacampegypt.com/camp/kids-3-camp-2023/
LOCATION:Ras Sedr
CATEGORIES:Summer Camp
END:VEVENT
BEGIN:VEVENT
DTSTART;TZID=Europe/Helsinki:20230726T070000
DTEND;TZID=Europe/Helsinki:20230802T200000
DTSTAMP:20260423T223812
CREATED:20230225T175042Z
LAST-MODIFIED:20230225T175042Z
UID:1117-1690354800-1691006400@ywcacampegypt.com
SUMMARY:Girls Camp
DESCRIPTION:
URL:https://ywcacampegypt.com/camp/girls-camp-2023/
LOCATION:Ras Sedr
CATEGORIES:Summer Camp
END:VEVENT
BEGIN:VEVENT
DTSTART;TZID=Europe/Helsinki:20230803T070000
DTEND;TZID=Europe/Helsinki:20230810T200000
DTSTAMP:20260423T223812
CREATED:20230225T175248Z
LAST-MODIFIED:20230225T175248Z
UID:1119-1691046000-1691697600@ywcacampegypt.com
SUMMARY:Boys Camp
DESCRIPTION:
URL:https://ywcacampegypt.com/camp/boys-camp-2023/
LOCATION:Ras Sedr
CATEGORIES:Summer Camp
END:VEVENT
BEGIN:VEVENT
DTSTART;TZID=Europe/Helsinki:20230810T080000
DTEND;TZID=Europe/Helsinki:20230814T200000
DTSTAMP:20260423T223812
CREATED:20230225T181214Z
LAST-MODIFIED:20230226T111336Z
UID:1121-1691654400-1692043200@ywcacampegypt.com
SUMMARY:University Camp
DESCRIPTION:
URL:https://ywcacampegypt.com/camp/university-camp-2023/
LOCATION:Ras Sedr
CATEGORIES:Summer Camp
END:VEVENT
BEGIN:VEVENT
DTSTART;TZID=Europe/Helsinki:20231226T070000
DTEND;TZID=Europe/Helsinki:20231229T183000
DTSTAMP:20260423T223812
CREATED:20231014T152951Z
LAST-MODIFIED:20231014T153022Z
UID:1157-1703574000-1703874600@ywcacampegypt.com
SUMMARY:Kids Camp
DESCRIPTION:
URL:https://ywcacampegypt.com/camp/kids-camp-winter-2024/
LOCATION:Ras Sedr
CATEGORIES:Winter Camp
END:VEVENT
BEGIN:VEVENT
DTSTART;TZID=Europe/Helsinki:20240102T070000
DTEND;TZID=Europe/Helsinki:20240105T183000
DTSTAMP:20260423T223812
CREATED:20231014T153137Z
LAST-MODIFIED:20231014T153137Z
UID:1159-1704178800-1704479400@ywcacampegypt.com
SUMMARY:Teens Camp
DESCRIPTION:
URL:https://ywcacampegypt.com/camp/teens-camp-winter-2024/
LOCATION:Ras Sedr
CATEGORIES:Winter Camp
END:VEVENT
END:VCALENDAR